BEGIN:VCALENDAR
VERSION:2.0
PRODID:Events Booking
BEGIN:VEVENT
UID:69ea481993bdc
SUMMARY:Dialoog bij de LEVgroep in Breugel
DESCRIPTION:Inschrijven kan via: https://www.levsonenbreugel.nl/contact
DTSTART:20260604T140000Z
DTEND:20260604T160000Z
DTSTAMP:20260405T103756Z
ORGANIZER;CN=Eindhoven in Dialoog:MAILTO:info@eindhovenindialoog.nl
END:VEVENT
END:VCALENDAR